BEGIN:VCALENDAR
VERSION:2.0
PRODID:-//The I AM Ministry - ECPv6.15.20//NONSGML v1.0//EN
CALSCALE:GREGORIAN
METHOD:PUBLISH
X-WR-CALNAME:The I AM Ministry
X-ORIGINAL-URL:https://theiamministry.org
X-WR-CALDESC:Events for The I AM Ministry
REFRESH-INTERVAL;VALUE=DURATION:PT1H
X-Robots-Tag:noindex
X-PUBLISHED-TTL:PT1H
BEGIN:VTIMEZONE
TZID:America/Chicago
BEGIN:DAYLIGHT
TZOFFSETFROM:-0600
TZOFFSETTO:-0500
TZNAME:CDT
DTSTART:20250309T080000
END:DAYLIGHT
BEGIN:STANDARD
TZOFFSETFROM:-0500
TZOFFSETTO:-0600
TZNAME:CST
DTSTART:20251102T070000
END:STANDARD
BEGIN:DAYLIGHT
TZOFFSETFROM:-0600
TZOFFSETTO:-0500
TZNAME:CDT
DTSTART:20260308T080000
END:DAYLIGHT
BEGIN:STANDARD
TZOFFSETFROM:-0500
TZOFFSETTO:-0600
TZNAME:CST
DTSTART:20261101T070000
END:STANDARD
BEGIN:DAYLIGHT
TZOFFSETFROM:-0600
TZOFFSETTO:-0500
TZNAME:CDT
DTSTART:20270314T080000
END:DAYLIGHT
BEGIN:STANDARD
TZOFFSETFROM:-0500
TZOFFSETTO:-0600
TZNAME:CST
DTSTART:20271107T070000
END:STANDARD
END:VTIMEZONE
BEGIN:VEVENT
DTSTART;TZID=America/Chicago:20260912T120000
DTEND;TZID=America/Chicago:20260912T150000
DTSTAMP:20260424T045739
CREATED:20260222T010001Z
LAST-MODIFIED:20260312T174454Z
UID:4046-1789214400-1789225200@theiamministry.org
SUMMARY:The "I AM" Brunch 2026
DESCRIPTION:THE I AM MINISTRIES 3RD ANNUAL “I AM BRUNCH”\n\nStep into a space of healing\, clarity\, and restored identity at our “I AM Redeemed” brunch. This gathering is designed for those ready to break old cycles and celebrate the freedom that comes with a life transformed by grace.\n\nWhether you are looking to deepen your faith\, find peace in a busy season\, or simply connect with a supportive community of like-minded individuals\, this event offers a spirit-filled atmosphere where both the body and soul are nurtured.\n\nWhat to Expect:\n\n\nMeaningful Connection: Engage in heartfelt conversations and build community over a delicious\, curated brunch spread.\nSpiritual Uplift: Experience scripture-rooted teaching and guided moments of prayer focused on restoration and new beginnings.\nPersonal Empowerment: Hear inspiring stories of transformation and learn practical steps to live out God’s grace daily.\nVibrant Atmosphere: Enjoy a warm\, welcoming environment filled with “big brunch energy\,” music\, and shared joy.\n\nDon’t let your seat go empty! Join us for a morning of food\, faith\, and spiritual freedom!\nRegister Here: http://www.theiambrunch.com\n\n\n-The I AM Ministries Team 
URL:https://theiamministry.org/event/womens-brunch/
ATTACH;FMTTYPE=image/jpeg:https://theiamministry.org/wp-content/uploads/2026/02/54FD488E-11A3-4EAE-9020-729802AD925D.jpeg
END:VEVENT
END:VCALENDAR