BEGIN:VCALENDAR
VERSION:2.0
PRODID:-//The I AM Ministry - ECPv6.15.20//NONSGML v1.0//EN
CALSCALE:GREGORIAN
METHOD:PUBLISH
X-ORIGINAL-URL:https://theiamministry.org
X-WR-CALDESC:Events for The I AM Ministry
REFRESH-INTERVAL;VALUE=DURATION:PT1H
X-Robots-Tag:noindex
X-PUBLISHED-TTL:PT1H
BEGIN:VTIMEZONE
TZID:America/Chicago
BEGIN:DAYLIGHT
TZOFFSETFROM:-0600
TZOFFSETTO:-0500
TZNAME:CDT
DTSTART:20230312T080000
END:DAYLIGHT
BEGIN:STANDARD
TZOFFSETFROM:-0500
TZOFFSETTO:-0600
TZNAME:CST
DTSTART:20231105T070000
END:STANDARD
BEGIN:DAYLIGHT
TZOFFSETFROM:-0600
TZOFFSETTO:-0500
TZNAME:CDT
DTSTART:20240310T080000
END:DAYLIGHT
BEGIN:STANDARD
TZOFFSETFROM:-0500
TZOFFSETTO:-0600
TZNAME:CST
DTSTART:20241103T070000
END:STANDARD
BEGIN:DAYLIGHT
TZOFFSETFROM:-0600
TZOFFSETTO:-0500
TZNAME:CDT
DTSTART:20250309T080000
END:DAYLIGHT
BEGIN:STANDARD
TZOFFSETFROM:-0500
TZOFFSETTO:-0600
TZNAME:CST
DTSTART:20251102T070000
END:STANDARD
BEGIN:DAYLIGHT
TZOFFSETFROM:-0600
TZOFFSETTO:-0500
TZNAME:CDT
DTSTART:20260308T080000
END:DAYLIGHT
BEGIN:STANDARD
TZOFFSETFROM:-0500
TZOFFSETTO:-0600
TZNAME:CST
DTSTART:20261101T070000
END:STANDARD
BEGIN:DAYLIGHT
TZOFFSETFROM:-0600
TZOFFSETTO:-0500
TZNAME:CDT
DTSTART:20270314T080000
END:DAYLIGHT
BEGIN:STANDARD
TZOFFSETFROM:-0500
TZOFFSETTO:-0600
TZNAME:CST
DTSTART:20271107T070000
END:STANDARD
END:VTIMEZONE
BEGIN:VTIMEZONE
TZID:America/New_York
BEGIN:DAYLIGHT
TZOFFSETFROM:-0500
TZOFFSETTO:-0400
TZNAME:EDT
DTSTART:20240310T070000
END:DAYLIGHT
BEGIN:STANDARD
TZOFFSETFROM:-0400
TZOFFSETTO:-0500
TZNAME:EST
DTSTART:20241103T060000
END:STANDARD
BEGIN:DAYLIGHT
TZOFFSETFROM:-0500
TZOFFSETTO:-0400
TZNAME:EDT
DTSTART:20250309T070000
END:DAYLIGHT
BEGIN:STANDARD
TZOFFSETFROM:-0400
TZOFFSETTO:-0500
TZNAME:EST
DTSTART:20251102T060000
END:STANDARD
BEGIN:DAYLIGHT
TZOFFSETFROM:-0500
TZOFFSETTO:-0400
TZNAME:EDT
DTSTART:20260308T070000
END:DAYLIGHT
BEGIN:STANDARD
TZOFFSETFROM:-0400
TZOFFSETTO:-0500
TZNAME:EST
DTSTART:20261101T060000
END:STANDARD
END:VTIMEZONE
BEGIN:VEVENT
DTSTART;TZID=America/Chicago:20260101T060000
DTEND;TZID=America/Chicago:20260331T233000
DTSTAMP:20260424T083757
CREATED:20260101T020850Z
LAST-MODIFIED:20260101T042238Z
UID:2839-1767247200-1774999800@theiamministry.org
SUMMARY:2026 1st Quarter Financial Fast
DESCRIPTION:Invitation: Beginning-of-year Financial Fast  \nAs we step into the beginning of year\, we declare that God will do great things! \nWe want God to provide us with discipline in our finances\, so we will learn to be good stewards of our resources\, talents\, and the many blessings the Lord has in store for us in the year of 2026! \nWe invite you to join us for time of extended fasting! With this focus being solely on saving money and decreased spending. \n I AM Ministries is invited to partner with Budget Brakers on a three-month “Financial Reset” fast\, running from January 1\, 2026\, to March 31\, 2026. This collaboration combines spiritual guidance with practical financial education to empower community members\, foster better spending habits\, and help participants meet their long-term financial goals. The partnership offers a spiritual approach to stewardship and is designed to create a profound and lasting impact on financial wellness within the community.\n\nIT’S SIMPLE GIVE UP ONE COMPULSIVE SPENDING HABIT FOR 90 DAYS!\n\nLet’s Begin the Year with a Budget Braking Mindset!\nWe look forward to seeking the Lord together! \n-The I AM Ministries Team
URL:https://theiamministry.org/event/2026-1st-quarter-financial-fast/
ATTACH;FMTTYPE=image/jpeg:https://theiamministry.org/wp-content/uploads/2025/12/Financial-fast.jpg
END:VEVENT
BEGIN:VEVENT
DTSTART;TZID=America/Chicago:20251229T060000
DTEND;TZID=America/Chicago:20251231T233000
DTSTAMP:20260424T083757
CREATED:20251114T212622Z
LAST-MODIFIED:20251207T030807Z
UID:2683-1766988000-1767223800@theiamministry.org
SUMMARY:FAST & PRAYER
DESCRIPTION: Invitation: End-of-Year Consecration Fast & Prayer  \nAs we prepare to close out this year and step boldly into the next\, we invite you to join us for a sacred time of Consecration\, Fasting\, and Prayer. This intentional period is dedicated to seeking God’s presence\, realigning our hearts\, and positioning ourselves to walk in His purpose for the year of 2026 \nDuring this time\, we will come together to: \nSeek God for clarity\, renewal\, and direction \nSurrender the past and welcome the new with expectation \nStrengthen our spiritual disciplines \nPray boldly for our families\, communities\, and future \nWhether you are fasting for breakthrough\, healing\, alignment\, or simply longing for a deeper walk with God\, this is a powerful opportunity to reset spiritually and finish the year strong. \nWe invite you to consecrate yourselves\, set aside dedicated prayer moments\, and journey with us as we believe God for transformation and refreshing. \nLet’s end the year in unity\, expectancy\, and revival.We look forward to seeking the Lord together! \n-The I AM Ministries Team
URL:https://theiamministry.org/event/fast-prayer/
ATTACH;FMTTYPE=image/jpeg:https://theiamministry.org/wp-content/uploads/2025/11/IMG_9337.jpeg
END:VEVENT
BEGIN:VEVENT
DTSTART;TZID=America/New_York:20251202T190000
DTEND;TZID=America/New_York:20251202T200000
DTSTAMP:20260424T083757
CREATED:20251110T014716Z
LAST-MODIFIED:20251110T014716Z
UID:2641-1764702000-1764705600@theiamministry.org
SUMMARY:Conversations with Chosen Pen
DESCRIPTION:Join The I AM Ministries founder\, Komica in her interview with Chosen Pen as their Author Spotlight! \nKomica Mcelrath is a passionate author\, ministry leader\, and business professional whose life and work are deeply rooted in faith\, purpose\, and service. She is the author of a heartfelt children’s book series\, The Fruit of the Spirit\, created to help young readers apply God’s word in real and relatable ways. Inspired by her experience teaching her grandson\, Komica’s stories guide children in learning how to navigate today’s world through love\, truth\, faith\, and Godly principles. \nIn addition to her children’s series\, Komica is a co-contributor to the inspiring anthology Partnering and Parting with the Practice Husband: From Practice to Promise\, a powerful collection that encourages women to trust God’s timing and wait for their promised husband. Through her writing and ministry\, Komica continues to empower readers of all ages to live with purpose and align their lives with God’s truth. \nPlease tune in Dec 2nd @ 7pm EST \nHosted by Dr. Anissa Short
URL:https://theiamministry.org/event/conversations-with-chosen-pen/
ATTACH;FMTTYPE=image/jpeg:https://theiamministry.org/wp-content/uploads/2025/11/47609E18-35CE-495B-8179-63FBE53B2598.jpg
END:VEVENT
BEGIN:VEVENT
DTSTART;TZID=America/Chicago:20251124T183000
DTEND;TZID=America/Chicago:20251124T193000
DTSTAMP:20260424T083757
CREATED:20251109T233640Z
LAST-MODIFIED:20251109T233640Z
UID:2625-1764009000-1764012600@theiamministry.org
SUMMARY:Budget Breakers Seminar 2025
DESCRIPTION:Calling All Budgeters and Dream Builders! \nAre you ready to take control of your finances and walk boldly into a year of abundance and stewardship? \nJoin us for a transformative session designed to help you create a financial plan that works for you; one that empowers you to budget wisely\, save intentionally\, and experience true financial freedom. \nCome with an open heart and an expectant spirit\, ready to receive practical nuggets that will equip you to make\, manage\, and multiply your resources with purpose. Together\, we’ll explore what it means to be faithful stewards of all that God has entrusted to us just like in Matthew 25:14–30. So\, what are you doing with your talents? \nThis is a FREE event! But space is limited so be sure to register today to reserve your seat. Zoom details will be shared 24 hours prior to the event. \nCome\, learn\, grow\, and be blessed as you take the next step toward financial peace and purpose. \nAbout the speaker\, \nRachel Branch has over 21 years of experience as a Lead Finance Analyst at a multi-billion-dollar telecommunications company\, Rachel helps individuals and businesses eliminate debt\, build savings\, and achieve financial freedom. Drawing on extensive financial expertise\, she offers personalized coaching\, courses\, and seminars designed to empower clients to take control of their financial future.
URL:https://theiamministry.org/event/faith-based-budgeting-workshop/
ATTACH;FMTTYPE=image/webp:https://theiamministry.org/wp-content/uploads/2025/11/Budget-Planning-Class.webp
END:VEVENT
BEGIN:VEVENT
DTSTART;TZID=America/Chicago:20251108T120000
DTEND;TZID=America/Chicago:20251108T140000
DTSTAMP:20260424T083757
CREATED:20251009T090003Z
LAST-MODIFIED:20251009T210029Z
UID:2514-1762603200-1762610400@theiamministry.org
SUMMARY:Promise Over Pressure Brunch
DESCRIPTION:Calling all my SINGLE LADIES!!!! You do not want to miss this event if your are waiting on your promise husband. Come and glean wisdom\, insight and experiences from women who are going to tell you like it IS so that you do not make the mistake of letting the pressure of being married by your age\, your family\, the man you have so many doubts about that you know is not your promise to any other thing that is causing you to rush God’s timing for your life. This event will be a great day of fellowship\, strength and support amongst sisters in Christ.\n\nThis is a FREE event but you must register to reserve your seat\, come and be blessed!
URL:https://theiamministry.org/event/promise-over-pressure-brunch/
ATTACH;FMTTYPE=image/png:https://theiamministry.org/wp-content/uploads/2025/10/Pink-Purple-Bold-Rose-Sunday-Party-Instagram-Post-.png
END:VEVENT
BEGIN:VEVENT
DTSTART;TZID=America/Chicago:20251011T110000
DTEND;TZID=America/Chicago:20251011T140000
DTSTAMP:20260424T083757
CREATED:20251009T210756Z
LAST-MODIFIED:20251009T211258Z
UID:2520-1760180400-1760191200@theiamministry.org
SUMMARY:The I AM Launch Cohort Meeting
DESCRIPTION:The I AM Ministries Launch Cohort!\n\nIf you have a business\, ministry or book idea and would like to be a part of The I AM Ministries Cohort\, sign up today. These Cohorts offer free resources\, sisterly support\, expert assistance\, and so much more to advance you and your gifts for the Kingdom of God.\n\nText Discovery to 901-899-5167 to sign up!
URL:https://theiamministry.org/event/promise-over-pressure-brunch-2/
ATTACH;FMTTYPE=image/jpeg:https://theiamministry.org/wp-content/uploads/2025/10/Launch-Meeting.jpg
END:VEVENT
BEGIN:VEVENT
DTSTART;TZID=America/Chicago:20250830T120000
DTEND;TZID=America/Chicago:20250830T140000
DTSTAMP:20260424T083757
CREATED:20250530T160511Z
LAST-MODIFIED:20250530T161704Z
UID:1674-1756555200-1756562400@theiamministry.org
SUMMARY:The I AM Brunch
DESCRIPTION:The I AM Brunch is exclusively designed to help and equip you in finding your purpose in Christ Jesus. There are many barriers and factors we do not consider that delay our paths to destiny.\nLet us help you discover who you are in Christ by setting the foundation for spiritual development in you that will propel you into your God given assignment and purpose.\n\nThis is a FREE event but you must register to reserve your seat.
URL:https://theiamministry.org/event/the-i-am-brunch-2/
ATTACH;FMTTYPE=image/jpeg:https://theiamministry.org/wp-content/uploads/2025/05/WhatsApp-Image-2025-05-29-at-21.47.11_4040fe4b.jpg
END:VEVENT
BEGIN:VEVENT
DTSTART;VALUE=DATE:20241201
DTEND;VALUE=DATE:20241226
DTSTAMP:20260424T083757
CREATED:20241202T194155Z
LAST-MODIFIED:20241202T194155Z
UID:1497-1733011200-1735171199@theiamministry.org
SUMMARY:The I AM Advent Prayer Calendar
DESCRIPTION:Text ADVENT to 901-899-5167 to subscribe to our daily Advent prayer calendar.
URL:https://theiamministry.org/event/the-i-am-advent-prayer-calendar/
ATTACH;FMTTYPE=image/png:https://theiamministry.org/wp-content/uploads/2024/12/The-I-AM-Advent-Calendar-2024.png
END:VEVENT
BEGIN:VEVENT
DTSTART;TZID=America/Chicago:20240914T120000
DTEND;TZID=America/Chicago:20240914T140000
DTSTAMP:20260424T083757
CREATED:20240806T190407Z
LAST-MODIFIED:20240806T190955Z
UID:1190-1726315200-1726322400@theiamministry.org
SUMMARY:The I AM Brunch
DESCRIPTION:The I AM Brunch is exclusively designed to help and equip you in finding your purpose in Christ Jesus. There are many barriers and factors we do not consider that delay our paths to destiny.\nLet us help you discover who you are in Christ by setting the foundation for spiritual development in you that will propel you into your God given assignment and purpose.\n\nThis is a FREE event but you must register to reserve your seat.
URL:https://theiamministry.org/event/the-i-am-brunch/
ATTACH;FMTTYPE=image/png:https://theiamministry.org/wp-content/uploads/2024/06/Magenta-and-White-Modern-Fundraising-Event-Instagram-Post.png
END:VEVENT
BEGIN:VEVENT
DTSTART;TZID=America/Chicago:20240813T190000
DTEND;TZID=America/Chicago:20240813T193000
DTSTAMP:20260424T083757
CREATED:20241202T205005Z
LAST-MODIFIED:20241202T194427Z
UID:1197-1723575600-1723577400@theiamministry.org
SUMMARY:The I AM Weekly Broadcast
DESCRIPTION:Prophetess Komica McElrath delivers an encouraging word from the Lord each Monday to inspire viewers to be drawn closer to Jesus by his word\, testimonies and prophecy revelation. Gifting in Prophecy\, Exhortation and an example of an Overcoming Believer; these messages are sure to inspire you to be drawn closer to Christ to reveal your purpose while helping to remove barriers on your journey.
URL:https://theiamministry.org/event/the-i-am-weekly-broadcast/
LOCATION:YouTube
ATTACH;FMTTYPE=image/png:https://theiamministry.org/wp-content/uploads/2024/08/The-I-Am-Broadcast-Promo.png
END:VEVENT
BEGIN:VEVENT
DTSTART;TZID=America/Chicago:20240807T120000
DTEND;TZID=America/Chicago:20240807T120000
DTSTAMP:20260424T083757
CREATED:20240806T202409Z
LAST-MODIFIED:20240806T202409Z
UID:1207-1723032000-1723032000@theiamministry.org
SUMMARY:W.O.W (Walk On Water) Wednesday!
DESCRIPTION:W.O.W (Walk On Water) Wednesday is our weekly publication that is published on Wednesdays for a midweek push of encouragement of Faith\, Love\, Hope and so much more! Subscribe to our Facebook channel to receive these weekly gems! \n  \n 
URL:https://theiamministry.org/event/w-o-w-walk-on-water-wednesday/
LOCATION:Facebook
ATTACH;FMTTYPE=image/png:https://theiamministry.org/wp-content/uploads/2024/08/WOW-Wednesday.png
END:VEVENT
END:VCALENDAR